Workbook

Sheet Stmt Asset & Liab (p1)
A1: PODA-1 | C1: NAME:
A2: GUAM PUBLIC OFFICIAL DISCLOSURE ACT | C2: TITLE:
A3: GUAM CODE ANNOTATED | C3: EMAIL:
A4: TITLE IV, CHAPTER 13 | C4: MAILING
C5: ADDRESS:
C6: TELEPHONE :
B8: STATEMENT OF ASSETS AND LIABILITIES*
B9: As of | C9: 45291
E11: Column A | G11: Column B
A13: ASSETS: | C13: Schedule | E13: Cost Basis | G13: Estimated Value Basis
B15: Cash | C15: 1-A | E15: ='Schd 1-A to D (p2)'!H16 -> 0 | G15: ='Schd 1-A to D (p2)'!H16 -> 0
B16: Receivables | C16: 1-B | E16: ='Schd 1-A to D (p2)'!H26 -> 0 | G16: ='Schd 1-A to D (p2)'!H26 -> 0
B17: Marketable Securities | C17: 1-C | E17: ='Schd 1-A to D (p2)'!E37 -> 0 | G17: ='Schd 1-A to D (p2)'!H37 -> 0
B18: Cash Value of Life Insurance | C18: 1-D | E18: ='Schd 1-A to D (p2)'!E46 -> 0 | G18: ='Schd 1-A to D (p2)'!H46 -> 0
B19: Net Assets of Proprietorships | C19: 1-E | E19: ='Schd 1-E to H (p3)'!J15 -> 0 | G19: ='Schd 1-E to H (p3)'!L15 -> 0
B20: Interest in Net Assets of Corporations,
B21: Partnerships, Joint-Ventures | C21: 1-F | E21: ='Schd 1-E to H (p3)'!J28 -> 0 | G21: ='Schd 1-E to H (p3)'!L28 -> 0
B22: Residence
B23: Investment in Real Estate | C23: 1-G | E23: ='Schd 1-E to H (p3)'!J40 -> 0 | G23: ='Schd 1-E to H (p3)'!L40 -> 0
B24: Present Value of Future Interests | C24: 1-H | E24: ='Schd 1-E to H (p3)'!L50 -> 0 | G24: ='Schd 1-E to H (p3)'!L50 -> 0
B25: Other Assets | C25: 1-I | E25: ='Schd 1-I to M (p4)'!I15 -> 0 | G25: ='Schd 1-I to M (p4)'!K15 -> 0
B27: TOTAL ASSETS | E27: =SUM(E15:E26) -> 0 | G27: =SUM(G15:G26) -> 0
A29: LIABILITIES:
B31: Accounts Payable and Accrued Expenses | C31: 1-J | E31: ='Schd 1-I to M (p4)'!K25 -> 0 | G31: ='Schd 1-I to M (p4)'!K25 -> 0
B32: Notes Payable-Unsecured | C32: 1-K | E32: ='Schd 1-I to M (p4)'!K34 -> 0 | G32: ='Schd 1-I to M (p4)'!K34 -> 0
B33: Notes Payable-Secured | C33: 1-L | E33: ='Schd 1-I to M (p4)'!K45 -> 0 | G33: ='Schd 1-I to M (p4)'!K45 -> 0
B34: Other Liabilities | C34: 1-M | E34: ='Schd 1-I to M (p4)'!K57 -> 0 | G34: ='Schd 1-I to M (p4)'!K57 -> 0
B35: -Accrued Income Taxes Payable
B36: -Deferred Income Taxes on Unrealized
B37: Asset Appreciation
B39: TOTAL LIABILITIES | E39: =SUM(E31:E37) -> 0 | G39: =SUM(G31:G37) -> 0
B41: EXCESS OF ASSETS OVER LIABILITIES | E41: =E27-E39 -> 0 | G41: =G27-G39 -> 0
A44: *For my spouse, my dependent children, and myself.
B45: I declare, under penalty of perjury, that the foregoing is true and correct. Executed on day of , 20 . Signature: .
A53: Appendix I

Sheet Schd 1-A to D (p2)
A1: PODA-1 | C1: NAME:
A2: GUAM PUBLIC OFFICIAL DISCLOSURE ACT | F2: 45291
A3: GUAM CODE ANNOTATED, TITLE IV, CHAPTER 13 | D3: PERIOD ENDING:
A5: SCHEDULE 1-A - CASH | C5: 4 GCA § 13104
A7: Account Name | C7: Type | E7: Bank | H7: Balance
H8: 0
H9: 0
H10: 0
H11: 0
H12: 0
H13: 0
F14: TOTAL CASH IN BANKS | H14: =SUM(H8:H13) -> 0
F15: CASH ON HAND | H15: 0
F16: TOTAL CASH | H16: =H14+H15 -> 0
A18: SCHEDULE 1-B - RECEIVABLES
A20: Owner | C20: Name of Debtor | E20: Collateral | H20: Balance
H21: 0
H22: 0
H23: 0
H24: 0
F26: TOTAL RECEIVABLES | H26: =SUM(H21:H24) -> 0
A28: SCHEDULE 1-C - MARKETABLE SECURITIES
A30: Description | E30: Cost | H30: Estimated Value
E31: 0 | H31: 0
E32: 0 | H32: 0
E33: 0 | H33: 0
E34: 0 | H34: 0
E35: 0 | H35: 0
C37: TOTAL MARKETABLE SECURITIES | E37: =SUM(E31:E35) -> 0 | H37: =SUM(H31:H36) -> 0
A39: SCHEDULE 1-D - CASH VALUE OF LIFE INSURANCE
A41: Insured | C41: Insurer | E41: Policy Loan | H41: Cash Value
E42: 0 | H42: 0
E43: 0 | H43: 0
E44: 0 | H44: 0
C46: TOTAL CASH VALUE OF LIFE INSURANCE | E46: =SUM(E42:F44) -> 0 | H46: =SUM(H42:H44) -> 0
A48: (Use plain continuation sheet(s) if necessary).
H49: Initials

Sheet Schd 1-E to H (p3)
A1: PODA-1 | F1: NAME:
A2: GUAM PUBLIC OFFICIAL DISCLOSURE ACT | J2: 45291
A3: GUAM CODE ANNOTATED, TITLE IV, CHAPTER 13 | G3: PERIOD ENDING:
A5: 4 GCA § 13104
A7: SCHEDULE 1-E - NET ASSETS OF PROPRIETORSHIPS | J7: Net Assets
A9: Business Name | F9: Owner | J9: Cost | L9: Estimated Value
J10: 0 | L10: 0
J11: 0 | L11: 0
J12: 0 | L12: 0
J13: 0 | L13: 0
H15: TOTAL NET ASSETS OF PROPRIETORSHIPS | J15: =SUM(J10:J13) -> 0 | L15: =SUM(L10:L13) -> 0
A17: SCHEDULE 1-F - INTEREST IN NET ASSETS OF CORPORATIONS, PARTNERSHIPS AND JOINT VENTURES
J19: Net Asset Value of Percent Owned
A21: Business Name | D21: Type | F21: Owner of Share | H21: Percent Owned | J21: Cost | L21: Estimated Value
J22: 0 | L22: 0
J23: 0 | L23: 0
J24: 0 | L24: 0
J25: 0 | L25: 0
H27: TOTAL INTEREST IN NET ASSETS OF CORPORATIONS,
H28: PARTNERSHIPS AND JOINT-VENTURES | J28: =SUM(J22:J25) -> 0 | L28: =SUM(L22:L25) -> 0
A30: SCHEDULE 1-G - INVESTMENT IN REAL ESTATE
A32: Description | F32: Owner | H32: Percent Owned | J32: Cost | L32: Estimated Value
J33: 0 | L33: 0
J34: 0 | L34: 0
J35: 0 | L35: 0
J36: 0 | L36: 0
J37: 0 | L37: 0
J38: 0 | L38: 0
H40: TOTAL INVESTMENT IN REAL ESTATE | J40: =SUM(J33:J38) -> 0 | L40: =SUM(L33:L38) -> 0
A42: SCHEDULE 1-H - PRESENT VALUE OF FUTURE INTERESTS
A44: Description | D44: Type | F44: Owner | L44: Present Value
L45: 0
L46: 0
L47: 0
L48: 0
J50: TOTAL PRESENT VALUE OF FUTURE INTERESTS | L50: =SUM(L45:L48) -> 0
A53: (Use plain continuation sheet(s) if necessary). | L53: Initials

Sheet Schd 1-I to M (p4)
A1: PODA-1 | E1: NAME:
A2: GUAM PUBLIC OFFICIAL DISCLOSURE ACT | I2: 45291
A3: GUAM CODE ANNOTATED, TITLE IV, CHAPTER 13 | F3: PERIOD ENDING:
A5: 4 GCA § 13104
A7: SCHEDULE 1-I - OTHER ASSETS
A9: Description | C9: Type | E9: Owner | I9: Cost | K9: Estimated Value
I10: 0 | K10: 0
I11: 0 | K11: 0
I12: 0 | K12: 0
I13: 0 | K13: 0
I14: 0 | K14: 0
G15: TOTAL OTHER ASSETS | I15: =SUM(I10:I14) -> 0 | K15: =SUM(K10:K14) -> 0
A17: SCHEDULE 1-J - ACCOUNTS PAYABLE AND ACCRUED EXPENSES
A19: Payable To | E19: Maker | I19: Type of Debt | K19: Amount
K20: 0
K21: 0
K22: 0
K23: 0
I25: TOTAL ACCOUNTS PAYABLE AND ACCRUED EXPENSES | K25: =SUM(K20:K23) -> 0
A27: SCHEDULE 1-K - NOTES PAYABLE - UNSECURED
A29: Payable To | E29: Maker | G29: Interest Rate | I29: Due Date | K29: Amount
K30: 0
K31: 0
K32: 0
K33: 0
I34: TOTAL NOTES PAYABLE - UNSECURED | K34: =SUM(K30:K33) -> 0
A36: SCHEDULE 1-L - NOTES PAYABLE - SECURED
A38: Payable To | C38: Maker | E38: Collateral | G38: Interest Rate | I38: Due Date | K38: Amount
K39: 0
K40: 0
K41: 0
K42: 0
K43: 0
K44: 0
I45: TOTAL NOTES PAYABLE - SECURED | K45: =SUM(K39:K44) -> 0
A47: SCHEDULE 1-M - OTHER LIABILITIES
A49: Payable To | C49: Maker | G49: Type of Debt | K49: Amount
K50: 0
K51: 0
K52: 0
...

Sheet Stmt of Inc (p5)
A1: PODA-2 | B1: NAME:
A2: GUAM PUBLIC OFFICIAL DISCLOSURE ACT | B2: TITLE:
A3: GUAM CODE ANNOTATED | B3: EMAIL:
A4: TITLE IV, CHAPTER 13 | B4: MAILING
B5: ADDRESS:
B6: TELEPHONE :
A9: STATEMENT OF INCOME*
A10: For the Year Ended | C10: 45291
C12: Schedule | E12: Amount
A13: Wages, Salaries, Fringe Benefits, and Other Employee Compensation | C13: 2-A | E13: ='Schd 2-A to D (p6)'!H16 -> 0
A14: Fees, Commissions, Honorariums, etc. | C14: 2-B | E14: ='Schd 2-A to D (p6)'!H26 -> 0
A15: Interest, Dividends and Royalties | C15: 2-C | E15: ='Schd 2-A to D (p6)'!H36 -> 0
A16: Gross Rentals | C16: 2-D | E16: ='Schd 2-A to D (p6)'!H46 -> 0
A17: Income from Business Interests | C17: 2-E | E17: ='Schd 2-E to H (p7)'!L17 -> 0
A18: Gains (Losses) from Sale or Exchange of Real Property | C18: 2-F | E18: ='Schd 2-E to H (p7)'!L27 -> 0
A19: Income from Estates and Trusts | C19: 2-G | E19: ='Schd 2-E to H (p7)'!L37 -> 0
A20: Income from Gifts | C20: 2-H | E20: ='Schd 2-E to H (p7)'!L47 -> 0
A21: Income from Forgiveness of Indebtedness | C21: 2-I | E21: ='Schd 2-I to L (p8)'!K17 -> 0
A22: Income from Annuities, Pensions, Life Insurance, & Endowment Contracts | C22: 2-J | E22: ='Schd 2-I to L (p8)'!K27 -> 0
A23: Income from Alimony and Separate Maintenance Payments | C23: 2-K | E23: ='Schd 2-I to L (p8)'!K37 -> 0
A24: Other Income | C24: 2-L | E24: ='Schd 2-I to L (p8)'!K47 -> 0
A25: TOTAL INCOME | D25: =SUM(E13:E24) -> 0 | E25: =SUM(E13:E24) -> 0
A28: *For my spouse, my dependent children, and myself
A30: I declare, under penalty of perjury, that the foregoing is true and correct. Executed on day of , 20 . Signature: .
A38: Appendix II

Sheet Schd 2-A to D (p6)
A1: PODA-2 | C1: NAME:
A2: GUAM PUBLIC OFFICIAL DISCLOSURE ACT | F2: 45291
A3: GUAM CODE ANNOTATED, TITLE IV, CHAPTER 13 | D3: PERIOD ENDING:
A8: SCHEDULE 2-A - WAGES, SALARIES, FRINGE BENEFITS, AND OTHER EMPLOYEE COMPENSATION
A9: 4 GCA § 13104(a)
A10: Paid To | C10: Nature And Source of Income (Name of Payor and Address) | H10: Amount
H11: 0
H12: 0
H13: 0
H14: 0
F16: TOTAL WAGES, SALARIES, FRINGE BENEFITS, & OTHER EMPLOYEE COMPENSATION | H16: =SUM(H11:H14) -> 0
A18: SCHEDULE 2-B - FEES, COMMISSIONS, HONORARIUMS, ETC. 4 GCA § 13104(a)(1)
A20: Paid To | C20: Nature And Source of Income (Name of Payor and Address) | H20: Amount
H21: 0
H22: 0
H23: 0
H24: 0
F26: TOTAL FEES, COMMISSIONS, HONORARIUMS, ETC. | H26: =SUM(H21:H24) -> 0
A28: SCHEDULE 2-C - INTEREST, DIVIDENDS AND ROYALTIES 4 GCA § 13104(a)(4)(6)(7)
A30: Paid To | C30: Type of Income | E30: Source | H30: Amount
H31: 0
H32: 0
H33: 0
H34: 0
F36: TOTAL INTEREST, DIVIDENDS AND ROYALTIES | H36: =SUM(H31:H34) -> 0
A38: SCHEDULE 2-D - GROSS RENTALS 4 GCA § 13104(a)(5)
A40: Paid To | C40: Description and Location of Property | E40: Policy Loan | H40: Amount
H41: 0
H42: 0
H43: 0
H44: 0
F46: TOTAL GROSS RENTALS | H46: =SUM(H41:H44) -> 0
A49: (Use plain continuation sheet(s) if necessary).
H51: Initials

Sheet Schd 2-E to H (p7)
A1: PODA-2 | E1: NAME:
A2: GUAM PUBLIC OFFICIAL DISCLOSURE ACT | J2: 45291
A3: GUAM CODE ANNOTATED, TITLE IV, CHAPTER 13 | F3: PERIOD ENDING:
A9: SCHEDULE 2-E - INCOME FROM BUSINESS INTERESTS 4 GCA § 13104(a)(2)
A11: Paid To | E11: Type of Business | G11: Name of Business | L11: Amount
L12: 0
L13: 0
L14: 0
L15: 0
J17: TOTAL INCOME FROM BUSINESS INTERESTS | L17: =SUM(L12:L15) -> 0
A19: SCHEDULE 2-F - GAINS (LOSSES) FROM SALE OR EXCHANGE OF REAL PROPERTY 4 GCA § 13104(a)(3)
A21: Seller | C21: Purchaser | E21: Property | G21: Cost or Basis | J21: Selling Price | L21: Gain (Loss)
G22: 0 | J22: 0 | L22: 0
G23: 0 | J23: 0 | L23: 0
G24: 0 | J24: 0 | L24: 0
G25: 0 | J25: 0 | L25: 0
J27: TOTAL GAINS (LOSSES) FROM SALE OR EXCHANGE OF REAL PROPERTY | L27: =SUM(L22:L25) -> 0
A29: SCHEDULE 2-G - INCOME FROM ESTATES AND TRUSTS 4 GCA § 13104(a)(10)
A31: Beneficiary | C31: Name of Estate or Trust | G31: Nature of Interests | L31: Amount
L32: 0
L33: 0
L34: 0
L35: 0
J37: TOTAL INCOME FROM ESTATES AND TRUSTS | L37: =SUM(L32:L35) -> 0
A39: SCHEDULE 2-H - INCOME FROM GIFTS 4 GCA § 13104(b)
A41: Donee | C41: Donor Name and Address | E41: Owner | G41: Nature of Gifts | L41: Amount
L42: 0
L43: 0
L44: 0
L45: 0
J47: TOTAL INCOME FROM GIFTS | L47: =SUM(L42:L45) -> 0
A49: (Use plain continuation sheet(s) if necessary).
L51: Initials

Sheet Schd 2-I to L (p8)
A1: PODA-2 | E1: NAME:
A2: GUAM PUBLIC OFFICIAL DISCLOSURE ACT | I2: 45291
A3: GUAM CODE ANNOTATED, TITLE IV, CHAPTER 13 | F3: PERIOD ENDING:
A9: SCHEDULE 2-I - INCOME FROM FORGIVENESS OF INDEBTEDNESS 4 GCA § 13104(a)(8)
A11: Donee | C11: Donor | G11: Nature of Indebtedness | K11: Amount
K12: 0
K13: 0
K14: 0
K15: 0
I17: TOTAL INCOME FROM FORGIVENESS OF INDEBTEDNESS | K17: =SUM(K12:K15) -> 0
A19: SCHEDULE 2-J - INCOME FROM ANNUITIES, PENSIONS, LIFE INSURANCE, AND ENDOWMENT CONTRACTS
A21: Paid To | E21: Nature and Source of Income | K21: Amount
K22: 0
K23: 0
K24: 0
K25: 0
I27: TOTAL INCOME FROM ANNUITIES, PENSIONS, LIFE INSURANCE, AND OTHER ENDOWMENT CONTRACTS | K27: =SUM(K22:K25) -> 0
A29: SCHEDULE 2-K - INCOME FROM ALIMONY AND SEPARATE MAINTENANCE PAYMENTS
A31: Paid To | E31: Nature and Source of Income | K31: Amount
K32: 0
K33: 0
K34: 0
K35: 0
I37: TOTAL INCOME FROM ALIMONY AND SEPARATE MAINTENANCE PAYMENTS | K37: =SUM(K32:K35) -> 0
A39: SCHEDULE 2-L - OTHER INCOME
A41: Paid To | E41: Nature and Source of Income | K41: Amount
K42: 0
K43: 0
K44: 0
K45: 0
I47: TOTAL OTHER INCOME | K47: =SUM(K42:K45) -> 0
A50: (Use plain continuation sheet(s) if necessary).
K52: Initials

Sheet Schd 3-A to B (p9)
A1: PODA-3
A2: GUAM PUBLIC OFFICIAL DISCLOSURE ACT | E2: 45291
A3: GUAM CODE ANNOTATED | C3: PERIOD ENDING:
A4: TITLE IV, CHAPTER 13
A5: NAME:
A6: NAME OF FUND:
A8: STATEMENT OF RECEIPTS AND DISBURSEMENTS 4 GCA § 13104 (e)
A10: CASH ON HAND | C10: January 1 | E10: 0
A11: ADD: | C11: SUB-TOTAL | E11: =E28 -> 0
C12: SUB-TOTAL | E12: =E10+E11 -> 0
A13: DEDUCT: | C13: Disbursements for Year - Schedule 3-B | E13: =E41 -> 0
A14: CASH ON HAND | C14: December 31 | E14: =E12-E13 -> 0
A17: SCHEDULE 3-A - RECEIPTS - CONTRIBUTORS TO THE FUND
A19: DONORS | C19: ADDRESS | E19: Amount
E20: 0
E21: 0
E22: 0
E23: 0
E24: 0
E25: 0
E26: 0
E27: 0
C28: TOTAL RECEIPTS | E28: =SUM(E20:E27) -> 0
A30: SCHEDULE 3-B - DISBURSEMENTS
A32: PAID TO | C32: PURPOSE | E32: Amount
E33: 0
E34: 0
E35: 0
E36: 0
E37: 0
E38: 0
E39: 0
E40: 0
A41: (Use plain continuation sheet(s) if necessary). | C41: TOTAL DISBURSEMENTS | E41: =SUM(E33:E40) -> 0
A43: I declare, under penalty of perjury, that the foregoing is true and correct. Executed on _______ day of _______________________________, 20_________. Signature: _______________________________________________________ .
