Workbook

Sheet B-1
A1: GUAM ELECTION COMMISSION
A2: Kumision Ileksion Guahan
A3: 241 Farenholt Ave. Oka Bldg. Ste. 202 Tamuning, Guam 96913
A4: Website: www.gec.guam.gov  E-mail: eccer@gec.guam.gov
A7: ELECTION CAMPAIGN CONTRIBUTIONS AND EXPENDITURES REPORT
B9: Name of Candidate, Party,
B10: Organization, or Committee:
B11: Elected Office Sought/Purpose/Ballot Question or Issue:
B12: Address: | P12: Political Party:
Q13: Zip Code:
B14: Tel No: | I14: Fax No: | Q14: E-mail:
B17: This report is for (check appropriate boxes): | M17: ELECTION YEAR:
D19: PRIMARY ELECTION | M19: GENERAL ELECTION | U19: SPECIAL ELECTION
D21: Preliminary Report | M21: Preliminary Report | U21: Preliminary Report
D23: Final Report | M23: Final Report | U23: Final Report
D25: Supplemental Report | M25: Supplemental Report | U25: Supplemental Report
B27: I, | W27: , do hereby swear
B28: that I have used all reasonable diligence in preparing the foregoing ELECTION CAMPAIGN CONTRIBUTIONS AND EXPENDITURES REPORT, and that it is a true, full, and explicit accounting of all contributions received and expenses incurred to date in aid of my campaign/support of a candidate(s), purpose of organization, or ballot question or issue.
M33: SIGNATURE OF CANDIDATE/CHAIRPERSON
B34: Subscribed and Sworn to before me on this | N34: day of | V34: , 20 .
M36: NOTARY PUBLIC in and for Guam.
M37: My Commission expires:
B42: I, | W42: , do hereby swear
B43: that I have used all reasonable diligence in preparing the foregoing ELECTION CAMPAIGN CONTRIBUTIONS AND EXPENDITURES REPORT, and that it is a true, full, and explicit accounting of all contributions received and expenses incurred to date in aid of the campaign/support of a candidate(s), purpose of organization, or ballot question or issue.
M48: SIGNATURE OF TREASURER
B49: Subscribed and Sworn to before me on this | N49: day of | V49: , 20 .
M51: NOTARY PUBLIC in and for Guam.
M52: My Commission expires:
A57: SUBMIT ONE ORIGINAL AND ONE ELECTRONIC EXCEL FORMAT
A58: EC-1B | W58: Rev 12/2023

Sheet B-2
A1: FINANCIAL INSTITUTION
A2: Use one line per campaign bank account.
A3: STARTING BALANCE | C3: BANK NAME AND ADDRESS | F3: ACCOUNT NUMBER | J3: ENDING BALANCE
A4: 0 | J4: 0
A5: 0 | J5: 0
A7: CONTRIBUTIONS
A8: "Contributions" means a gift, subscription, loan, advance, deposit of money, or anything of value, or cancellation of a debt or legal obligation, as defined in 3 GCA § 17101(f). ALL corporate contributions shall be reported regardless of amount. (Use additional sheets if needed.)
A10: I. CASH CONTRIBUTIONS
A11: Contributions of more than $100 received from individual donors.
A13: AMOUNT | C13: NAME OF INDIVIDUAL DONOR | F13: ADDRESS OF DONOR | H13: DATE RECEIVED | J13: DATE DEPOSITED
A14: 0
A15: 0
A16: 0
A17: ='B-7 AttachICashCont'!A58 -> 0 | C17: See B-7 Attachment I. Cash Contributions
A19: =SUM(A14:A17) -> 0 | C19: (1) Total amount of Cash Contributions this reporting period.
A20: 0 | C20: (1a) Cumulative Total of Cash Contributions from last report.
A21: =A19+A20 -> 0 | C21: (1b) Sub-Total of Cash Contributions (1 + 1a = 1b)
A23: II. AGGREGATE CONTRIBUTIONS FROM FUNDRAISING EVENTS $25 OR LESS.
A24: AMOUNT | B24: FUNDRAISING EVENT, DATE, AND TICKET PRICE | F24: LOCATION | H24: DATE RECEIVED | J24: DATE DEPOSITED
A25: 0
A26: 0
A27: 0
A28: ='B-8 AttachIIFundraising<$25'!A59 -> 0 | C28: See B-8 Attachment II. Fundraising Events $25 or Less
A30: =SUM(A25:A28) -> 0 | C30: (2) Total Aggregate Contributions this reporting period.
A31: 0 | C31: (2a) Cumulative Total of Aggregate Contributions from last report.
A32: =A30+A31 -> 0 | C32: (2b) Sub-Total of Aggregate Contributions (2 + 2a = 2b)
A34: III. AGGREGATE CONTRIBUTIONS FROM FUNDRAISING EVENTS OF MORE THAN $25 AND
A35: $100 OR LESS
A36: AMOUNT | B36: FUNDRAISING EVENT, DATE, AND TICKET PRICE | F36: LOCATION | H36: DATE RECEIVED | J36: DATE DEPOSITED
A37: 0
A38: 0
A39: 0
A40: ='B-9 AttachIIIFund>$25<$100'!A59 -> 0 | C40: See B-9 Attachment III. Fundraising Events More Than $25 and $100 or Less
A42: =SUM(A37:A40) -> 0 | C42: (3) Total Aggregate Contributions this reporting period.
A43: 0 | C43: (3a) Cumulative Total of Aggregate Contributions from last report.
A44: =A42+A43 -> 0 | C44: (3b) Sub-Total of Aggregate Contributions (3 + 3a = 3b)
A46: IV. CONTRIBUTIONS FROM FUNDRAISING EVENTS MORE THAN $100 PER TICKET
A47: AMOUNT | C47: NAME & ADDRESS OF INDIVIDUAL DONOR | F47: EVENT, DATE, & TICKET PRICE | H47: DATE REC'D | J47: DATE DEP.
A48: 0
A49: 0
...

Sheet B-3
A1: V. NON-MONETARY PERSONAL SERVICES CONTRIBUTIONS
A2: All personal and related services, contracts, promises or agreements to make contribution for personal services of $100.00 or more.
A3: ESTIMATED VALUE | C3: NAME OF DONOR | G3: ADDRESS OF DONOR | I3: DESCRIPTION OF CONTRIBUTION | K3: DATE RECEIVED
A4: 0
A5: 0
A6: 0
A7: 0
A8: 0
A9: 0
A10: 0
A11: 0
A12: 0
A13: 0
A14: 0
A16: =SUM(A4:A14) -> 0 | C16: (5) Total Non-Monetary Contributions this reporting period.
A17: 0 | C17: (5a) Cumulative Total of Non-Monetary Contributions from last report.
A18: =A16+A17 -> 0 | C18: (5b) Sub-Total of Non-Monetary Contributions (5 + 5a = 5b)
A20: VI. NON-MONETARY GOODS AND/OR CONTRACTS CONTRIBUTIONS
A21: All goods or contracts, promises, or agreements to make contribution of goods of $100.00 or more.
A22: ESTIMATED VALUE | C22: NAME OF DONOR | G22: ADDRESS OF DONOR | I22: DESCRIPTION OF CONTRIBUTION | K22: DATE RECEIVED
A23: 0
A24: 0
A25: 0
A26: 0
A27: 0
A28: 0
A29: 0
A30: 0
A31: 0
A32: 0
A34: =SUM(A23:A32) -> 0 | C34: (6) Total Non-Monetary Contributions this reporting period.
A35: 0 | C35: (6a) Cumulative Total of Non-Monetary Contributions from last report.
A36: =A34+A35 -> 0 | C36: (6b) Sub-Total of Non-Monetary Contributions (6 + 6a = 6b)
A38: VII. EARMARKED CONTRIBUTIONS
A39: Contributions received from donors designated for specified campaign expenses.
A40: AMOUNT | C40: NAME OF DONOR | G40: ADDRESS OF DONOR | I40: DESCRIPTION OF CONTRIBUTION | K40: DATE RECEIVED
A41: 0
A42: 0
A43: 0
A44: 0
...

Sheet B-4
A1: VII. Pursuant to 3 GCA § 17109(c), persons who have made a contribution of his/her own money or property or money of another person of more than $100
A3: AMOUNT | B3: NAME AND ADDRESS OF DONOR | C3: DATES OF DONATION
A4: 0
A5: 0
A6: 0
A7: 0
A8: 0
A9: 0
A10: 0
A11: 0
A12: 0
A13: 0
A14: 0
A15: 0
... A42: 0
A43: SUBMIT ONE ORIGINAL AND ONE ELECTRONIC EXCEL FORMAT
C44: Initials
W58: Rev 1/6/20

Sheet B-5
A1: EXPENDITURES
A2: "Expenditures" means any purchase or transfer of money or anything of value or promise or agreement to purchase or transfer of money or anything of value, or payment incurred or made, or the use or consumption of a non-monetary contribution, as defined in 3 GCA § 17101(h). Expenditures by a candidate of his or her own funds for the purposes prescribed under 3 GCA § 17101(h) must also be reported herein.
A6: I. FUNDS EXPENDED
A7: AMOUNT | C7: NAME OF PAYEE | H7: ADDRESS OF PAYEE | K7: PURPOSE | M7: DATE
A8: 0
A9: 0
A10: 0
A11: 0
A12: 0
A13: 0
A14: 0
A15: 0
A16: 0
A17: 0
A18: 0
A19: 0
A20: 0
A21: ='B-11 AttachIFundsExpend'!A58 -> 0 | C21: See B-10 Attachment I. Funds Expended
A23: =SUM(A8:A21) -> 0 | D23: (1) Total Funds Expended this reporting period.
A24: 0 | D24: (1a) Cumulative Total of Funds Expended from last report.
A25: =A23+A24 -> 0 | D25: (1b) Sub-Total of Funds Expended (1 + 1a = 1b)
A27: II. INCURRED EXPENSES
A28: Pending payments for services rendered/products received in aid of a campaign.
A30: AMOUNT | C30: NAME OF PAYEE | H30: ADDRESS OF PAYEE | K30: PURPOSE | M30: DATE
A31: 0
A32: 0
A33: 0
A34: 0
A35: 0
A36: 0
A37: 0
A38: 0
A39: 0
A40: 0
A41: 0
A42: 0
A43: ='B-12 AttachIIIncurredExp'!A69 -> 0 | C43: See B-11 Attachment - II. Incurred Expenses
A45: =SUM(A31:A43) -> 0 | D45: (2) Total Incurred Expenditure this reporting period.
A46: 0 | D46: (2a) Cumulative Total of Incurred Expenditures from last report.
A47: =A45+A46 -> 0 | D47: (2b) Sub-Total of Incurred Expenditures (2 + 2a = 2b)
...

Sheet B-6
A1: IV. NON-MONETARY GOODS AND/OR CONTRACTS EXPENDITURES
A2: The consumption of all goods or contracts, promise, or agreement expended for goods in aid of a campaign.
A3: AMOUNT | C3: NAME OF PAYEE | H3: ADDRESS OF PAYEE | J3: PURPOSE | L3: DATE
A4: 0
A5: 0
A6: 0
A7: 0
A8: 0
A9: 0
A10: 0
A11: 0
A12: 0
A14: =SUM(A4:A12) -> 0 | D14: (4) Total Non-Monetary Expenditures this reporting period.
A15: 0 | D15: (4a) Cumulative Total Non-Monetary Expenditures from last report.
A16: =A14+A15 -> 0 | D16: (4b) Sub-Total of Non-Monetary Expenditures (4 + 4a = 4b)
A18: V. EARMARKED EXPENDITURES
A19: Disbursement of earmarked contributions for use as specified.
A20: AMOUNT | C20: NAME OF PAYEE | H20: ADDRESS OF PAYEE | J20: PURPOSE | L20: DATE
A21: 0
A22: 0
A23: 0
A24: 0
A25: 0
A26: 0
A27: 0
A28: 0
A29: 0
A31: =SUM(A21:A29) -> 0 | D31: (5) Total Non-Monetary Expenditures this reporting period.
A32: 0 | D32: (5a) Cumulative Total Non-Monetary Expenditures from last report.
A33: =A31+A32 -> 0 | D33: (5b) Sub-Total of Non-Monetary Expenditures (5 + 5a = 5b)
A37: CONTRIBUTIONS AND EXPENDITURES SUMMARY
A39: CONTRIBUTIONS: | D39: ='B-2'!A21 -> 0 | E39: (1b) Sub-Total Cash Contributions.
D40: ='B-2'!A32 -> 0 | E40: (2b) Sub-Total Aggregate Contributions (Fundraising Events $25 or less).
D41: ='B-2'!A44 -> 0 | E41: (3b) Sub-Total Aggregate Contributions (" ">$25 and $100 or less).
D42: ='B-2'!A55 -> 0 | E42: (4b) Sub-Total Contributions from Fundraising Events >$100.
D43: ='B-3'!A18 -> 0 | E43: (5b) Sub-Total Personal Services Contributions.
D44: ='B-3'!A36 -> 0 | E44: (6b) Sub-Total Goods and/or Contracts Contributions.
D45: ='B-3'!A54 -> 0 | E45: (7b) Sub-Total Earmarked Contributions.
D46: =SUM(D39:D45) -> 0 | E46: GRAND TOTAL CONTRIBUTIONS (1b + 2b + 3b + 4b + 5b + 6b+7b)
A49: EXPENDITURES: | D49: ='B-5'!A25 -> 0 | E49: (1b) Sub-Total Funds Expended.
...

Sheet B-7 AttachICashCont
A2: CONTRIBUTIONS Attachment I. CASH CONTRIBUTIONS
A3: AMOUNT | C3: NAME OF INDIVIDUAL DONOR | D3: ADDRESS OF DONOR | E3: DATE RECEIVED | F3: DATE DEPOSITED
A4: 0
A5: 0
A6: 0
A7: 0
A8: 0
A9: 0
A10: 0
A11: 0
A12: 0
A13: 0
A14: 0
A15: 0
... A34: 0
A35: CORPORATE CONTRIBUTORS
A36: Corporate contributions received for fundraisers at which the cost was more than $100 per ticket.
A37: AMOUNT | C37: NAME & ADDRESS OF CORPORATE DONOR | D37: FUNDRAISER EVENT & DATE | E37: DATE RECEIVED | F37: DATE DEPOSITED
A38: 0
A39: 0
A40: 0
A41: 0
A42: 0
A43: 0
A44: 0
A45: 0
A46: 0
A47: 0
A48: 0
A49: 0
... A57: 0
A58: =SUM(A4:A57) -> 0 | C58: TOTAL (To be placed on page B-2 item I. Cash Contributions)
A60: SUBMIT ONE ORIGINAL AND ONE ELECTRONIC EXCEL FORMAT | F60: Initials
W67: Rev 1/6/20

Sheet B-8 AttachIIFundraising<$25
A1: CONTRIBUTIONS Attachment II. AGGREGATE CONTRIBUTIONS FROM FUNDRAISING EVENTS $25 OR LESS
A3: AMOUNT | B3: FUNDRAISING EVENT, DATE, AND TICKET PRICE | C3: LOCATION | D3: DATE RECEIVED | E3: DATE DEPOSITED
A4: 0
A5: 0
A6: 0
A7: 0
A8: 0
A9: 0
A10: 0
A11: 0
A12: 0
A13: 0
A14: 0
A15: 0
... A29: 0
A30: CORPORATE CONTRIBUTORS
A31: AMOUNT | B31: NAME & ADDRESS OF CORPORATE DONOR | C31: FUNDRAISER EVENT & DATE | D31: DATE RECEIVED | E31: DATE DEPOSITED
A32: 0
A33: 0
A34: 0
A35: 0
A36: 0
A37: 0
A38: 0
A39: 0
A40: 0
A41: 0
A42: 0
A43: 0
... A58: 0
A59: =SUM(A4:A58) -> 0 | B59: TOTAL (To be placed on page B-2 item II. Aggretate Contributions from Fundraising Events $25 or Less)
A62: SUBMIT ONE ORIGINAL AND ONE ELECTRONIC EXCEL FORMAT | E62: Initials
W66: Rev 1/6/20

Sheet B-9 AttachIIIFund>$25<$100
A2: CONTRIBUTIONS Attachment III. AGGREGATE CONTRIBUTIONS FROM FUNDRAISING EVENTS OF MORE THAN $25 AND $100 OR LESS
A4: AMOUNT | C4: FUNDRAISING EVENT, DATE, AND TICKET PRICE | D4: LOCATION | E4: DATE RECEIVED | F4: DATE DEPOSITED
A5: 0
A6: 0
A7: 0
A8: 0
A9: 0
A10: 0
A11: 0
A12: 0
A13: 0
A14: 0
A15: 0
A16: 0
... A33: 0
A34: CORPORATE CONTRIBUTORS
A35: AMOUNT | C35: NAME AND ADDRESS OF CORPORATE DONOR | D35: FUNDRAISER EVENT AND DATE | E35: DATE RECEIVED | F35: DATE DEPOSITED
A36: 0
A37: 0
A38: 0
A39: 0
A40: 0
A41: 0
A42: 0
A43: 0
A44: 0
A45: 0
A46: 0
A47: 0
... A58: 0
A59: =SUM(A5:A58) -> 0 | C59: TOTAL (To be placed on page B-2 item III. Aggretate Contributions from Fundraising Events of More than $25 and $100 or Less)
A62: SUMBIT ONE ORIGINAL AND ONE ELECTRONIC EXCEL COPY | F62: Initials
W65: Rev 1/6/20

Sheet B-10 AttachIVFundraising>$100
A1: CONTRIBUTIONS Attachment IV. CONTRIBUTIONS FROM FUNDRAISING EVENTS OF MORE THAN $100
A2: AMOUNT | B2: NAME & ADDRESS OF DONOR | C2: FUNDRAISER EVENT, DATE, & TICKET PRICE | D2: DATE RECEIVED | E2: DATE DEPOSITED
A4: 0
A5: 0
A6: 0
A7: 0
A8: 0
A9: 0
A10: 0
A11: 0
A12: 0
A13: 0
A14: 0
A15: 0
... A32: 0
A33: CORPORATE CONTRIBUTIONS
A34: Corporate contributions received for fundraisers at which the cost was more than $100 per ticket.
A35: AMOUNT | B35: NAME & ADDRESS OF CORPORATE DONOR | C35: FUNDRAISER EVENT, DATE, & TICKET PRICE | D35: DATE RECEIVED | E35: DATE DEPOSITED
A36: 0
A37: 0
A38: 0
A39: 0
A40: 0
A41: 0
A42: 0
A43: 0
A44: 0
A45: 0
A46: 0
A47: 0
... A53: 0
A55: =SUM(A4:A53) -> 0 | B55: TOTAL (To be placed on page B-2 item IV. Contributions from Fundraising Events of More Than $100)
A57: SUBMIT ONE ORIGINAL AND ONE ELECTRONIC EXCEL FORMAT | E57: Initials

Sheet B-11 AttachIFundsExpend
A2: EXPENDITURES Attachment I. FUNDS EXPENDED
A3: AMOUNT | C3: NAME OF PAYEE | D3: ADDRESS OF PAYEE | E3: PURPOSE | F3: DATE
A4: 0
A5: 0
A6: 0
A7: 0
A8: 0
A9: 0
A10: 0
A11: 0
A12: 0
A13: 0
A14: 0
A15: 0
... A57: 0
A58: =SUM(A4:A57) -> 0 | C58: TOTAL (To be placed on page B-5 item I. Funds Expended)
A60: SUBMIT ONE ORIGINAL AND ONE ELECTRONIC EXCEL FORMAT | F60: Initials
W69: Rev 1/6/20

Sheet B-12 AttachIIIncurredExp
A2: EXPENDITURES Attachment II. INCURRED EXPENSES
A3: AMOUNT | C3: NAME OF PAYEE | D3: ADDRESS OF PAYEE | E3: PURPOSE | F3: DATE
A4: 0
A5: 0
A6: 0
A7: 0
A8: 0
A9: 0
A10: 0
A11: 0
A12: 0
A13: 0
A14: 0
A15: 0
... A68: 0
A69: =SUM(A4:A68) -> 0 | C69: TOTAL (To be placed on page B-5 item II. Incurred Expenses)
A71: SUBMIT ONE ORIGINAL AND ONE ELECTRONIC EXCEL FORMAT | F71: Initials
W87: Rev 1/6/20

Sheet B-13 AttachIIINon-MonServ
A2: EXPENDITURES Attachment III. NON-MONETARY PERSONAL SERVICES EXPENDITURES
A3: AMOUNT | C3: NAME OF PAYEE | D3: ADDRESS OF PAYEE | E3: PURPOSE | F3: DATE
A4: 0
A5: 0
A6: 0
A7: 0
A8: 0
A9: 0
A10: 0
A11: 0
A12: 0
A13: 0
A14: 0
A15: 0
... A56: 0
A57: =SUM(A4:A56) -> 0 | C57: TOTAL (To be placed on page B-5 item III. Non-Monetary Personal Services Expenditures).
A59: SUBMIT ONE ORIGINAL AND ONE ELECTRONIC EXCEL FORMAT | F59: Initials
