Workbook

Sheet A-1
A1: GUAM ELECTION COMMISSION Kumision Ileksion Guåhan
A2: Kumision Ileksion Guahan
A3: 241 Farenholt Ave., 2nd Floor, Ste. 202 Oka Bldg., Tamuning, Guam 96913
A4: Website: http://gec.guam.gov  E-mail: eccer@gec.guam.gov
G5: Tel: (671) 477-9791 Fax: (671) 477-1895
F7: ORGANIZATIONAL REPORT | U7: Date:
B9: Name of Candidate, Party,
B10: Organization, or Committee:
B11: Elected Office Sought and Election Year:
B12: Purpose, Question, or Issue:
B13: Address: | Q13: Political Party:
Q14: Zip Code:
B15: Tel No: | I15: Fax No: | Q15: Email:
A18: CAMPAIGN TREASURER / DEPUTY TREASURERS
B20: Campaign Treasurer: | Q20: Tel No.:
B21: Address: | Q21: Email:
B22: Deputy Campaign Treasurer: | Q22: Tel No.:
B23: Address: | Q23: Email:
B24: Deputy Campaign Treasurer: | Q24: Tel No.:
B25: Address: | Q25: Email:
B26: Deputy Campaign Treasurer: | Q26: Tel No.:
B27: Address: | Q27: Email:
B28: Deputy Campaign Treasurer: | Q28: Tel No.:
B29: Address: | Q29: Email:
B30: Deputy Campaign Treasurer: | Q30: Tel No.:
B31: Address: | Q31: Email:
A33: CAMPAIGN CHAIRPERSON / DEPUTY CHAIRPERSON
B35: Campaign Chairperson: | Q35: Tel No.:
B36: Address: | Q36: Email:
B37: Deputy Campaign Chairperson: | Q37: Tel No.:
B39: Address: | Q39: Email:
A41: SUBMIT ONE ORIGINAL AND ONE ELECTRONIC EXCEL FORMAT
A43: Initials | W43: Initials
A44: EC-1A | W44: Rev 11/30/2023

Sheet A-2
A3: F I N A N C I A L I N S T I T U T I O N
A4: STARTING BALANCE | C4: BANK NAME AND ADDRESS | F4: ACCOUNT NUMBER | K4: ENDING BALANCE
A5: 0 | K5: 0
A6: 0 | K6: 0
A7: Use one line per campaign bank account.
A8: C O N T R I B U T I O N S
A9: "Contributions" means a gift, subscription, loan, advance, deposit of money, or anything of value, or cancellation of a debt or legal obligation, as defined in 3 GCA § 17101(f). ALL corporate contributions shall be reported regardless of amount.
A11: (Use additional sheets if needed.)
A13: I. CASH CONTRIBUTIONS
A14: Contributions of more than $100 received from individuals.
A16: AMOUNT | C16: NAME OF INDIVIDUAL DONOR | F16: ADDRESS OF DONOR | K16: DATE REC'D | M16: DATE DEP.
A17: 0
A18: 0 | B18: 0
A19: 0
A20: ='A-8 AttachICashCont'!A55 -> 0 | C20: See A-8 Attachment I. - Cash Contributions
A22: =SUM(A17:A20) -> 0 | C22: (1) Total amount of Cash Contributions this reporting period.
A23: 0 | C23: (1a) Cumulative Total of Cash Contributions from last report.
A24: =A22+A23 -> 0 | C24: (1b) Sub-Total of Cash Contributions (1 + 1a = 1b)
A26: II. AGGREGATE CONTRIBUTIONS FROM FUNDRAISING EVENTS $25 OR LESS
A27: AMOUNT | B27: FUNDRAISING EVENT, DATE, AND TICKET PRICE | H27: LOCATION | K27: DATE REC'D | M27: DATE DEP.
A28: 0
A29: 0
A30: 0
A31: ='A-9 AttachIIFundraising<$25'!A41 -> 0 | C31: See A-9 Attachment II. - Fundraising Events $25 or Less
A33: =SUM(A28:A31) -> 0 | C33: (2) Total Aggregate Contributions this reporting period.
A34: 0 | C34: (2a) Cumulative Total of Aggregate Contributions from last report.
A35: =A33+A34 -> 0 | C35: (2b) Sub-Total of Aggregate Contributions (2 + 2a = 2b)
A37: III. AGGREGATE CONTRIBUTIONS FROM FUNDRAISING EVENTS OF MORE THAN $25 AND $100 OR LESS
A39: AMOUNT | B39: FUNDRAISING EVENT, DATE, AND TICKET PRICE | H39: LOCATION | K39: DATE REC'D | M39: DATE DEP.
A40: 0
A41: 0
A42: 0
A43: ='A-10 AttachIIIFundraising>$25'!A39 -> 0 | C43: See A-10 Attachment III - Fundraising Events More Than $25 and $100 or Less
A45: =SUM(A40:A43) -> 0 | C45: (3) Total Aggregate Contributions this reporting period.
A46: 0 | C46: (3a) Cumulative Total of Aggregate Contributions from last report.
A47: =A45+A46 -> 0 | C47: (3b) Sub-Total of Aggregate Contributions (3 + 3a = 3b)
A49: IV. CONTRIBUTIONS FROM FUNDRAISING EVENTS MORE THAN $100 PER TICKET
A50: AMOUNT | C50: NAME OF INDIVIDUAL DONOR | F50: ADDRESS OF DONOR | H50: EVENT, DATE, & TICKET PRICE | K50: DATE REC'D | M50: DATE DEP.
A51: 0
A52: 0
...

Sheet A-3
A3: V. NON-MONETARY PERSONAL SERVICES CONTRIBUTIONS
A4: All personal and related services, contract, promise or agreement to make contribution for personal services of $100.00 or more.
A6: ESTIMATED VALUE | C6: NAME OF DONOR | E6: ADDRESS OF DONOR | G6: DESCRIPTION OF CONTRIBUTION | I6: DATE RECEIVED
A7: 0
A8: 0
A9: 0
A10: 0
A11: 0
A12: 0
A13: 0
A15: =SUM(A7:A13) -> 0 | C15: (5) Total Non-Monetary Contributions this reporting period.
A16: 0 | C16: (5a) Cumulative Total of Non-Monetary Contributions from last report.
A17: =A15+A16 -> 0 | C17: (5b) Sub-Total of Non-Monetary Contributions (5 + 5a = 5b)
A22: VI. NON-MONETARY GOODS AND/OR CONTRACTS CONTRIBUTIONS
A23: All goods or contracts, promise, or agreement to make contribution of goods more than $100 in value.
A25: ESTIMATED VALUE | C25: NAME OF DONOR | E25: ADDRESS OF DONOR | G25: DESCRIPTION OF CONTRIBUTION | I25: DATE RECEIVED
A26: 0
A27: 0
A28: 0
A29: 0
A30: 0
A31: 0
A32: 0
A34: =SUM(A26:A32) -> 0 | C34: (6) Total Non-Monetary Contributions this reporting period.
A35: 0 | C35: (6a) Cumulative Total of Non-Monetary Contributions from last report.
A36: =A34+A35 -> 0 | C36: (6b) Sub-Total of Non-Monetary Contributions (6 + 6a = 6b)
A39: VII. EARMARKED CONTRIBUTIONS
A40: Contributions received from donors designated for specified campaign expenses.
A41: AMOUNT | C41: NAME OF DONOR | E41: ADDRESS OF DONOR | G41: DESCRIPTION OF CONTRIBUTION | I41: DATE RECEIVED
A42: 0
A43: 0
A44: 0
A45: 0
A46: 0
A47: 0
A48: 0
A50: =SUM(A42:A48) -> 0 | C50: (7) Total Non-Monetary Contributions this reporting period.
A51: 0 | C51: (7a) Cumulative Total of Non-Monetary Contributions from last report.
A52: =A50+A51 -> 0 | C52: (7b) Sub-Total of Non-Monetary Contributions (7 + 7a = 7b)
I53: Initials

Sheet A-4
A1: VII. Pursuant to 3 GCA § 17109(c), persons who have made a contribution of his/her own money or property or money of another person totaling more than $100 at this time and not previously reported.
A3: AMOUNT | B3: NAME OF INDIVIDUAL DONOR | C3: ADDRESS OF DONOR | D3: DATE OF DONATION
A4: 0
A5: 0
A6: 0
A7: 0
A8: 0
A9: 0
A10: 0
A11: 0
A12: 0
A13: 0
A14: 0
A15: 0
... A41: 0
D45: Initials

Sheet A-5
A2: E X P E N D I T U R E S
A4: "Expenditures" means any purchase or transfer of money or anything of value or promise or agreement to purchase or transfer of money or anything of value, or payment incurred or made, or the use or consumption of a non-monetary contribution for the purposes prescribed under 3 GCA § 17101(h)(A)(B)(C). Expenditures by a candidate of his or her own funds for the purposes prescribed under 3 GCA § 17101(h)(A)(B)(C) must also be reported herein.
A9: I. FUNDS EXPENDED
A10: AMOUNT | C10: NAME OF PAYEE | H10: ADDRESS OF PAYEE | J10: PURPOSE | L10: DATE
A11: 0
A12: 0
A13: 0
A14: 0
A15: 0
A16: 0
A17: 0
A18: ='A-12 AttachIFundsExpend'!A56 -> 0 | C18: See A-12 Attachment I. - Funds Expended
A20: =SUM(A11:A18) -> 0 | D20: (1) Total Funds Expended this reporting period.
A21: 0 | D21: (1a) Cumulative Total of Funds Expended from last report.
A22: =A20+A21 -> 0 | D22: (1b) Sub-Total of Funds Expended (1 + 1a = 1b)
A24: II. INCURRED EXPENSES
A25: Pending payments for services rendered/products received in aid of a campaign.
A26: AMOUNT | C26: NAME OF PAYEE | H26: ADDRESS OF PAYEE | J26: PURPOSE | L26: DATE
A27: 0
A28: 0
A29: 0
A30: 0
A31: 0
A32: 0
A33: ='A-13 AttachIIIncurredExp'!A52 -> 0 | C33: See A-13 Attachment II. - Incurred Expenses
A35: =SUM(A27:A33) -> 0 | D35: (2) Total Incurred Expenditures this reporting period.
A36: 0 | D36: (2a) Cumulative Total of Incurred Expenditures from last report.
A37: =A35+A36 -> 0 | D37: (2b) Sub-Total of Incurred Expenditures (2 + 2a = 2b)
A39: III. NON-MONETARY PERSONAL SERVICES EXPENDITURES
A40: The consumption of all personal and related services, contracts, promises, or agreements expended for personal services in aid of a campaign.
A41: ESTIMATED VALUE | C41: NAME OF PAYEE | H41: ADDRESS OF PAYEE | J41: PURPOSE | L41: DATE
A43: 0
A44: 0
A45: 0
A46: 0
A47: 0
A48: ='A-14 AttachIIINonMonPS'!A60 -> 0 | C48: See A-14 Attachment III. - Non-Monetary Personal Expenses
A50: =SUM(A43:A48) -> 0 | D50: (3) Total Non-Monetary Expenditures this reporting period.
A51: 0 | D51: (3a) Cumulative Total of Non-Monetary Expenditures from last report.
A52: =A50+A51 -> 0 | D52: (3b) Sub-Total of Non-Monetary Expenditures (3 + 3a = 3b)
...

Sheet A-6
A4: IV. NON-MONETARY GOODS AND/OR CONTRACTS EXPENDITURES
A5: The consumption of all goods or contracts, promise, or agreement expended for goods in aid of a campaign.
A6: ESTIMATED VALUE | C6: NAME OF PAYEE | F6: ADDRESS OF PAYEE | H6: PURPOSE | J6: DATE
A8: 0
A9: 0
A10: 0
A11: 0
A13: =SUM(A8:A11) -> 0 | D13: (4) Total Non-Monetary Expenditures this reporting period.
A14: 0 | D14: (4a) Cumulative Total Non-Monetary Expenditures from last report.
A15: =A13+A14 -> 0 | D15: (4b) Sub-Total of Non-Monetary Expenditures (4 + 4a = 4b)
A17: V. EARMARKED EXPENDITURES
A18: Disbursement of earmarked contributions for use as specified.
A19: AMOUNT | C19: NAME OF PAYEE | F19: ADDRESS OF PAYEE | H19: PURPOSE | J19: DATE
A20: 0
A21: 0
A22: 0
A23: 0
A25: =SUM(A20:A23) -> 0 | D25: (5) Total Non-Monetary Expenditures this reporting period.
A26: 0 | D26: (5a) Cumulative Total Non-Monetary Expenditures from last report.
A27: =A25+A26 -> 0 | D27: (5b) Sub-Total of Non-Monetary Expenditures (5 + 5a = 5b)
A29: CONTRIBUTIONS AND EXPENDITURES SUMMARY
A32: CONTRIBUTIONS: | D32: ='A-2'!A24 -> 0 | E32: (1b) Sub-Total Cash Contributions.
D33: ='A-2'!A35 -> 0 | E33: (2b) Sub-Total Aggregate Contributions ($25 or less) fundraising events.
D34: ='A-2'!A47 -> 0 | E34: (3b) Sub-Total Aggregate Contributions (>$25 and $100 or less) " ".
D35: ='A-2'!A58 -> 0 | E35: (4b) Sub-Total Contributions from Fundraising Events >$100
D36: ='A-3'!A17 -> 0 | E36: (5b) Sub-Total Personal Services Contributions.
D37: ='A-3'!A36 -> 0 | E37: (6b) Sub-Total Goods and/or Contracts Contributions.
D38: ='A-3'!A52 -> 0 | E38: (7b) Sub-Total Earmarked Contributions.
D39: =SUM(D32:D38) -> 0 | E39: GRAND TOTAL CONTRIBUTIONS (1b + 2b + 3b + 4b + 5b + 6b+7b)
A41: EXPENDITURES: | D41: ='A-5'!A22 -> 0 | E41: (1b) Sub-Total Funds Expended.
D42: ='A-5'!A37 -> 0 | E42: (2b) Sub-Total Incurred Expenditures.
D43: ='A-5'!A52 -> 0 | E43: (3b) Sub-Total Personal Services Expenditures.
D44: ='A-6'!A15 -> 0 | E44: (4b) Sub-Total Goods and/or Contracts Expenditures.
D45: ='A-6'!A27 -> 0 | E45: (5b) Sub-Total Earmarked Expenditures.
D46: =D41+D42+D43+D44+D45 -> 0 | E46: GRAND TOTAL EXPENDITURES (1b + 2b + 3b + 4b + 5b)
A48: SURPLUS / DEFICIT: | D48: =D39-D46 -> 0 | E48: GRAND TOTAL CONTRIBUTIONS MINUS GRAND TOTAL EXPENDITURES (Negative=Deficit / Positive=Surplus)
D51: 0 | F51: Balance Brought Forward from the | J51: Election
J55: Initials

Sheet A-7
A2: AFFIRMATION AND SIGNATURE OF TREASURER
B4: I, | G4: do hereby swear that I have used all reasonable
B5: diligence in preparing this ORGANIZATIONAL REPORT, and that it is a true, full, and explicit accounting of all contributions received and expenses incurred to date in aid of the campaign/support of a candidate(s), purpose of organization, or ballot question or issue.
D9: SIGNATURE OF TREASURER
B12: Subscribed and Sworn to before me on this | F12: day of | I12: , 20
D16: NOTARY PUBLIC in and for Guam:
D17: My Commission expires:
A21: AFFIRMATION AND SIGNATURE OF CANDIDATE / SPONSOR/CHAIRPERSON
B23: I, | G23: do hereby swear that I have used all reasonable
B24: diligence in preparing this ORGANIZATIONAL REPORT, and that it is a true, full, and explicit accounting of all contributions received and expenses incurred to date in aid of my campaign/support of a candidate(s), purpose of organization, or ballot question question or issue.
D28: SIGNATURE OF CANDIDATE / SPONSOR/CHAIRPERSON
B31: Subscribed and Sworn to before me on this | F31: day of | I31: , 20
E35: NOTARY PUBLIC in and for Guam:
E36: My Commission expires:
A43: EC-1A | I43: Revised 10/26/2023
D49: 0

Sheet A-8 AttachICashCont
A2: CONTRIBUTIONS Attachment I. CASH CONTRIBUTIONS
A3: AMOUNT | B3: NAME OF INDIVIDUAL DONOR | C3: ADDRESS OF DONOR | D3: DATE RECEIVED | E3: DATE DEPOSITED
A4: 0
A5: 0
A6: 0
A7: 0
A8: 0
A9: 0
A10: 0
A11: 0
A12: 0
A13: 0
A14: 0
A15: 0
... A32: 0
A33: CORPORATE CONTRIBUTIONS
A34: Corporate contributions received for fundraisers at which the cost was more than $100 per ticket.
A35: AMOUNT | B35: NAME & ADDRESS OF CORPORATE DONOR | C35: FUNDRAISER EVENT & DATE | D35: DATE RECEIVED | E35: DATE DEPOSITED
A36: 0
A37: 0
A38: 0
A39: 0
A40: 0
A41: 0
A42: 0
A43: 0
A44: 0
A45: 0
A46: 0
A47: 0
... A53: 0
A55: =SUM(A4:A53) -> 0 | B55: TOTAL (To be placed on page A-2 item I. Cash Contributions)
A57: SUBMIT ONE ORIGINAL AND ONE ELECTRONIC EXCEL FORMAT | E57: Initials

Sheet A-9 AttachIIFundraising<$25
A2: CONTRIBUTIONS Attachment II. AGGREGATE CONTRIBUTIONS FROM FUNDRAISING EVENTS $25 OR LESS
A3: AMOUNT | B3: FUNDRAISING EVENT, DATE, AND TICKET PRICE | C3: LOCATION | D3: DATE RECEIVED | E3: DATE DEPOSITED
A4: 0
A5: 0
A6: 0
A7: 0
A8: 0
A9: 0
A10: 0
A11: 0
A12: 0
A13: 0
A14: 0
A15: 0
... A29: 0
A30: CORPORATE CONTRIBUTORS
A31: AMOUNT | B31: NAME & ADDRESS OF CORPORATE DONOR | C31: FUNDRAISER EVENT & DATE | D31: DATE RECEIVED | E31: DATE DEPOSITED
A32: 0
A33: 0
A34: 0
A35: 0
A36: 0
A37: 0
A38: 0
A39: 0
A41: =SUM(A4:A39) -> 0 | B41: TOTAL
A42: (To be placed on page A-2 item II. Aggretate Contributions from Fundraising Events $25 or Less)
A44: SUBMIT ONE ORIGINAL AND ONE ELECTRONIC EXCEL FORMAT
E45: Initials

Sheet A-10 AttachIIIFundraising>$25
A2: CONTRIBUTIONS Attachment III. AGGREGATE CONTRIBUTIONS FROM FUNDRAISING EVENTS OF MORE THAN $25 AND $100 OR LESS
A4: AMOUNT | B4: FUNDRAISING EVENT, DATE, AND TICKET PRICE | C4: LOCATION | D4: DATE RECEIVED | E4: DATE DEPOSITED
A5: 0
A6: 0
A7: 0
A8: 0
A9: 0
A10: 0
A11: 0
A12: 0
A13: 0
A14: 0
A15: 0
A16: 0
... A28: 0
A29: CORPORATE CONTRIBUTORS
A30: AMOUNT | B30: NAME & ADDRESS OF CORPORATE DONOR | C30: FUNDRAISER EVENT & DATE | D30: DATE RECEIVED | E30: DATE DEPOSITED
A31: 0
A32: 0
A33: 0
A34: 0
A35: 0
A36: 0
A37: 0
A39: =SUM(A5:A37) -> 0 | B39: TOTAL (To be placed on page A-2 item III. Aggretate Contributions from Fundraising Events of More than $25 and
B40: $100 or less)
A42: SUBMIT ONE ORIGINAL AND ONE ELECTRONIC EXCEL FORMAT
E43: Initials

Sheet A-11 AttachIVFundraising>$100
A1: CONTRIBUTIONS Attachment IV. CONTRIBUTIONS FROM FUNDRAISING EVENTS OF MORE THAN $100
A2: AMOUNT | B2: NAME & ADDRESS OF DONOR | C2: FUNDRAISER EVENT, DATE, & TICKET PRICE | D2: DATE RECEIVED | E2: DATE DEPOSITED
A4: 0
A5: 0
A6: 0
A7: 0
A8: 0
A9: 0
A10: 0
A11: 0
A12: 0
A13: 0
A14: 0
A15: 0
... A32: 0
A33: CORPORATE CONTRIBUTIONS
A34: Corporate contributions received for fundraisers at which the cost was more than $100 per ticket.
A35: AMOUNT | B35: NAME & ADDRESS OF CORPORATE DONOR | C35: FUNDRAISER EVENT, DATE, & TICKET PRICE | D35: DATE RECEIVED | E35: DATE DEPOSITED
A36: 0
A37: 0
A38: 0
A39: 0
A40: 0
A41: 0
A42: 0
A43: 0
A44: 0
A45: 0
A46: 0
A47: 0
... A53: 0
A55: =SUM(A4:A53) -> 0 | B55: TOTAL (To be placed on page A-2 item IV. Contributions from Fundraising Events of More Than $100)
A57: SUBMIT ONE ORIGINAL AND ONE ELECTRONIC EXCEL FORMAT | E57: Initials

Sheet A-12 AttachIFundsExpend
A1: EXPENDITURES Attachment I. FUNDS EXPENDED
A3: AMOUNT | B3: NAME OF PAYEE | C3: ADDRESS OF PAYEE | D3: PURPOSE | E3: DATE
A4: 0
A5: 0
A6: 0
A7: 0
A8: 0
A9: 0
A10: 0
A11: 0
A12: 0
A13: 0
A14: 0
A15: 0
... A54: 0
A56: =SUM(A4:A54) -> 0 | B56: TOTAL (To be placed on page A-5 item I. Funds Expended)
A59: SUBMIT ONE ORIGINAL AND ONE ELECTRONIC EXCEL FORMAT
E60: Initials

Sheet A-13 AttachIIIncurredExp
A1: EXPENDITURES Attachment II. INCURRED EXPENSES
A3: AMOUNT | B3: NAME OF PAYEE | C3: ADDRESS OF PAYEE | D3: PURPOSE | E3: DATE
A4: 0
A5: 0
A6: 0
A7: 0
A8: 0
A9: 0
A10: 0
A11: 0
A12: 0
A13: 0
A14: 0
A15: 0
... A50: 0
A52: =SUM(A4:A50) -> 0 | B52: TOTAL (To be placed on page A-5 item II. Incurred Expenses)
A56: SUBMIT ONE ORIGINAL AND ONE ELECTRONIC EXCEL FORMAT
E57: Initials

Sheet A-14 AttachIIINonMonPS
A2: EXPENDITURES Attachment III. NON-MONETARY PERSONAL SERVICES EXPENDITURES
A3: AMOUNT | B3: NAME OF PAYEE | C3: ADDRESS OF PAYEE | D3: PURPOSE | E3: DATE
A4: 0
A5: 0
A6: 0
A7: 0
A8: 0
A9: 0
A10: 0
A11: 0
A12: 0
A13: 0
A14: 0
A15: 0
... A58: 0
A60: =SUM(A4:A58) -> 0 | B60: TOTAL (To be placed on page A-5 item III. Non-Monetary Personal Services Expenditures. All personal and related
B61: services, contracts, promises, or agreements expended for personal services in aid of campaign)
A64: SUBMIT ONE ORIGINAL AND ONE ELECTRONIC EXCEL FORMAT
E65: Initials
